BEGIN:VCALENDAR
VERSION:2.0
PRODID:-//Education - ECPv6.15.20//NONSGML v1.0//EN
CALSCALE:GREGORIAN
METHOD:PUBLISH
X-WR-CALNAME:Education
X-ORIGINAL-URL:https://edu.bodyandflow.com
X-WR-CALDESC:Events for Education
REFRESH-INTERVAL;VALUE=DURATION:PT1H
X-Robots-Tag:noindex
X-PUBLISHED-TTL:PT1H
BEGIN:VTIMEZONE
TZID:UTC
BEGIN:STANDARD
TZOFFSETFROM:+0000
TZOFFSETTO:+0000
TZNAME:UTC
DTSTART:20170101T000000
END:STANDARD
END:VTIMEZONE
BEGIN:VEVENT
DTSTART;VALUE=DATE:20180612
DTEND;VALUE=DATE:20180615
DTSTAMP:20260424T055634
CREATED:20141118T222605Z
LAST-MODIFIED:20251026T120419Z
UID:10000002-1528761600-1529020799@edu.bodyandflow.com
SUMMARY:Pilates Mat Advanced Course :: Hanoi :: Vietnam
DESCRIPTION:Pilates Mat Advanced Course :: Hanoi :: Vietnam\nDuring the Advanced Mat Course (Mat II) we will enhance teaching skills\, introduce more advanced mat exercises and explore problems related to disc pathologies and osteoporosis in order to learn how to work with these special populations. We will focus on assessment\, specifically learning how to assess posture\, flexibility and strength.
URL:https://edu.bodyandflow.com/calendar/pilates-mat-advanced-course-hanoi-vietnam/2018-06-12/
LOCATION:Zenith Yoga Center Hanoi Vietnam\, 1st & 2nd Flr\, Westlake Suite Building No 275\, Đ. Âu Cơ\, Quảng An\, Tây Hồ\, Hà Nội 100000\, Vietnam\, Hanoi\,\, Viet Nam
CATEGORIES:in Asia,Pilates Mat II
ORGANIZER;CN="Ms. Van":MAILTO:manager@zenithyogahanoi.com
GEO:21.0711583;105.8256012
X-APPLE-STRUCTURED-LOCATION;VALUE=URI;X-ADDRESS=Zenith Yoga Center Hanoi Vietnam 1st & 2nd Flr Westlake Suite Building No 275 Đ. Âu Cơ Quảng An Tây Hồ Hà Nội 100000 Vietnam Hanoi Viet Nam;X-APPLE-RADIUS=500;X-TITLE=1st & 2nd Flr\, Westlake Suite Building No 275\, Đ. Âu Cơ\, Quảng An\, Tây Hồ\, Hà Nội 100000\, Vietnam:geo:105.8256012,21.0711583
END:VEVENT
BEGIN:VEVENT
DTSTART;VALUE=DATE:20180612
DTEND;VALUE=DATE:20180617
DTSTAMP:20260424T055634
CREATED:20141118T221947Z
LAST-MODIFIED:20251026T120419Z
UID:10000001-1528761600-1529193599@edu.bodyandflow.com
SUMMARY:Pilates Mat Beg-Int Course :: Hanoi :: Vietnam
DESCRIPTION:Pilates Mat Course :: Hanoi :: Vietnam \n[border ] \nBody & Flow comprehensive mat course includes 45 hours of interactive learning\, practice\, labs\, problems solving and role games. From the very first fundamental to the more complex intermediate\, we will cover the exercises with focus on execution\, modifications and anatomy. In addition to working intensely on teaching skills and expanding teaching vocabulary we will learn how to spot and correct misalignments and problematic executions\, posture and structure problems and how to touch in order to teach… Through practice and a lot more\, our course helps to unfold the creative\, passionate and kind Pilates teacher you are
URL:https://edu.bodyandflow.com/calendar/4972/2018-06-12/
LOCATION:Zenith Yoga Center Hanoi Vietnam\, 1st & 2nd Flr\, Westlake Suite Building No 275\, Đ. Âu Cơ\, Quảng An\, Tây Hồ\, Hà Nội 100000\, Vietnam\, Hanoi\,\, Viet Nam
CATEGORIES:in Asia
ATTACH;FMTTYPE=image/jpeg:https://edu.bodyandflow.com/wp-content/uploads/2013/06/Pilates-Mat-Certification-Course-I-by-body-and-flow11-original-e1708299188398.jpg
ORGANIZER;CN="Ms. Van":MAILTO:manager@zenithyogahanoi.com
GEO:21.0711583;105.8256012
X-APPLE-STRUCTURED-LOCATION;VALUE=URI;X-ADDRESS=Zenith Yoga Center Hanoi Vietnam 1st & 2nd Flr Westlake Suite Building No 275 Đ. Âu Cơ Quảng An Tây Hồ Hà Nội 100000 Vietnam Hanoi Viet Nam;X-APPLE-RADIUS=500;X-TITLE=1st & 2nd Flr\, Westlake Suite Building No 275\, Đ. Âu Cơ\, Quảng An\, Tây Hồ\, Hà Nội 100000\, Vietnam:geo:105.8256012,21.0711583
END:VEVENT
END:VCALENDAR